BEGIN:VCALENDAR
VERSION:2.0
PRODID:-//Boulay-les-Barres - ECPv6.15.20//NONSGML v1.0//EN
CALSCALE:GREGORIAN
METHOD:PUBLISH
X-ORIGINAL-URL:https://boulaylesbarres.fr
X-WR-CALDESC:Évènements pour Boulay-les-Barres
REFRESH-INTERVAL;VALUE=DURATION:PT1H
X-Robots-Tag:noindex
X-PUBLISHED-TTL:PT1H
BEGIN:VTIMEZONE
TZID:Europe/Paris
BEGIN:DAYLIGHT
TZOFFSETFROM:+0100
TZOFFSETTO:+0200
TZNAME:CEST
DTSTART:20230326T010000
END:DAYLIGHT
BEGIN:STANDARD
TZOFFSETFROM:+0200
TZOFFSETTO:+0100
TZNAME:CET
DTSTART:20231029T010000
END:STANDARD
BEGIN:DAYLIGHT
TZOFFSETFROM:+0100
TZOFFSETTO:+0200
TZNAME:CEST
DTSTART:20240331T010000
END:DAYLIGHT
BEGIN:STANDARD
TZOFFSETFROM:+0200
TZOFFSETTO:+0100
TZNAME:CET
DTSTART:20241027T010000
END:STANDARD
BEGIN:DAYLIGHT
TZOFFSETFROM:+0100
TZOFFSETTO:+0200
TZNAME:CEST
DTSTART:20250330T010000
END:DAYLIGHT
BEGIN:STANDARD
TZOFFSETFROM:+0200
TZOFFSETTO:+0100
TZNAME:CET
DTSTART:20251026T010000
END:STANDARD
END:VTIMEZONE
BEGIN:VEVENT
DTSTART;VALUE=DATE:20240111
DTEND;VALUE=DATE:20240112
DTSTAMP:20260419T223134
CREATED:20221221T120737Z
LAST-MODIFIED:20240211T122134Z
UID:215323-1704931200-1705017599@boulaylesbarres.fr
SUMMARY:Galette du Club du Bel Automne
DESCRIPTION:Les adhérents du club se retrouvent autour de la traditionnelle galette des rois.
URL:https://boulaylesbarres.fr/event/galette/
LOCATION:Salle Polyvalente
CATEGORIES:Accès géré par l'organisateur,Sur invitation
ATTACH;FMTTYPE=image/jpeg:https://boulaylesbarres.fr/wp-content/uploads/2022/12/galette-des-rois_2400-1536x448-1.jpg
END:VEVENT
BEGIN:VEVENT
DTSTART;VALUE=DATE:20240111
DTEND;VALUE=DATE:20240112
DTSTAMP:20260419T223134
CREATED:20221221T162836Z
LAST-MODIFIED:20240211T113104Z
UID:215399-1704931200-1705017599@boulaylesbarres.fr
SUMMARY:Loto du Club du Bel Automne
DESCRIPTION:
URL:https://boulaylesbarres.fr/event/loto-du-club-du-bel-automne/
LOCATION:Salle Polyvalente
CATEGORIES:Accès géré par l'organisateur,Tout public
ATTACH;FMTTYPE=image/jpeg:https://boulaylesbarres.fr/wp-content/uploads/2022/12/loto3.jpg
END:VEVENT
END:VCALENDAR