BEGIN:VCALENDAR
VERSION:2.0
PRODID:-//Boulay-les-Barres - ECPv6.15.20//NONSGML v1.0//EN
CALSCALE:GREGORIAN
METHOD:PUBLISH
X-ORIGINAL-URL:https://boulaylesbarres.fr
X-WR-CALDESC:Évènements pour Boulay-les-Barres
REFRESH-INTERVAL;VALUE=DURATION:PT1H
X-Robots-Tag:noindex
X-PUBLISHED-TTL:PT1H
BEGIN:VTIMEZONE
TZID:Europe/Paris
BEGIN:DAYLIGHT
TZOFFSETFROM:+0100
TZOFFSETTO:+0200
TZNAME:CEST
DTSTART:20220327T010000
END:DAYLIGHT
BEGIN:STANDARD
TZOFFSETFROM:+0200
TZOFFSETTO:+0100
TZNAME:CET
DTSTART:20221030T010000
END:STANDARD
BEGIN:DAYLIGHT
TZOFFSETFROM:+0100
TZOFFSETTO:+0200
TZNAME:CEST
DTSTART:20230326T010000
END:DAYLIGHT
BEGIN:STANDARD
TZOFFSETFROM:+0200
TZOFFSETTO:+0100
TZNAME:CET
DTSTART:20231029T010000
END:STANDARD
BEGIN:DAYLIGHT
TZOFFSETFROM:+0100
TZOFFSETTO:+0200
TZNAME:CEST
DTSTART:20240331T010000
END:DAYLIGHT
BEGIN:STANDARD
TZOFFSETFROM:+0200
TZOFFSETTO:+0100
TZNAME:CET
DTSTART:20241027T010000
END:STANDARD
END:VTIMEZONE
BEGIN:VEVENT
DTSTART;VALUE=DATE:20230204
DTEND;VALUE=DATE:20230205
DTSTAMP:20260421T124407
CREATED:20221221T144906Z
LAST-MODIFIED:20221221T190248Z
UID:215357-1675468800-1675555199@boulaylesbarres.fr
SUMMARY:Théâtre: Troupe du Cerf-Volant
DESCRIPTION:Troubles\, Problèmes et Solutions. (Vaudevillage) \nComédie dansante en 2 actes. Sans réservation. \nCréation de Stéphane Mahau\, \nPar la Troupe du Cerf-Volant.
URL:https://boulaylesbarres.fr/event/theatre-par-la-troupe-du-cerf-volant/
LOCATION:Salle Polyvalente
CATEGORIES:Tout public
ATTACH;FMTTYPE=image/png:https://boulaylesbarres.fr/wp-content/uploads/2022/12/Fond-theatre-845x321-1.png
END:VEVENT
END:VCALENDAR